BEGIN:VCALENDAR
VERSION:2.0
PRODID:-//Cedar Ridge Golf Course - Cedar City, UT - ECPv6.15.20//NONSGML v1.0//EN
CALSCALE:GREGORIAN
METHOD:PUBLISH
X-WR-CALNAME:Cedar Ridge Golf Course - Cedar City, UT
X-ORIGINAL-URL:https://golfcedarridge.com
X-WR-CALDESC:Events for Cedar Ridge Golf Course - Cedar City, UT
REFRESH-INTERVAL;VALUE=DURATION:PT1H
X-Robots-Tag:noindex
X-PUBLISHED-TTL:PT1H
BEGIN:VTIMEZONE
TZID:America/Denver
BEGIN:DAYLIGHT
TZOFFSETFROM:-0700
TZOFFSETTO:-0600
TZNAME:MDT
DTSTART:20250309T090000
END:DAYLIGHT
BEGIN:STANDARD
TZOFFSETFROM:-0600
TZOFFSETTO:-0700
TZNAME:MST
DTSTART:20251102T080000
END:STANDARD
BEGIN:DAYLIGHT
TZOFFSETFROM:-0700
TZOFFSETTO:-0600
TZNAME:MDT
DTSTART:20260308T090000
END:DAYLIGHT
BEGIN:STANDARD
TZOFFSETFROM:-0600
TZOFFSETTO:-0700
TZNAME:MST
DTSTART:20261101T080000
END:STANDARD
BEGIN:DAYLIGHT
TZOFFSETFROM:-0700
TZOFFSETTO:-0600
TZNAME:MDT
DTSTART:20270314T090000
END:DAYLIGHT
BEGIN:STANDARD
TZOFFSETFROM:-0600
TZOFFSETTO:-0700
TZNAME:MST
DTSTART:20271107T080000
END:STANDARD
END:VTIMEZONE
BEGIN:VEVENT
DTSTART;TZID=America/Denver:20260423T173000
DTEND;TZID=America/Denver:20260423T200000
DTSTAMP:20260421T101329
CREATED:20260303T172341Z
LAST-MODIFIED:20260303T172346Z
UID:10000074-1776965400-1776974400@golfcedarridge.com
SUMMARY:Men's League
DESCRIPTION:The last public play groups will be sent out around 3:00PM for nine holes. Everyone needs to be cleared off the course by 5:00PM and the course will remain closed for the rest of the evening.
URL:https://golfcedarridge.com/event/mens-league-13/2026-04-23/
END:VEVENT
BEGIN:VEVENT
DTSTART;TZID=America/Denver:20260430T173000
DTEND;TZID=America/Denver:20260430T200000
DTSTAMP:20260421T101329
CREATED:20260303T172341Z
LAST-MODIFIED:20260303T172346Z
UID:10000075-1777570200-1777579200@golfcedarridge.com
SUMMARY:Men's League
DESCRIPTION:The last public play groups will be sent out around 3:00PM for nine holes. Everyone needs to be cleared off the course by 5:00PM and the course will remain closed for the rest of the evening.
URL:https://golfcedarridge.com/event/mens-league-13/2026-04-30/
END:VEVENT
BEGIN:VEVENT
DTSTART;TZID=America/Denver:20260507T173000
DTEND;TZID=America/Denver:20260507T200000
DTSTAMP:20260421T101329
CREATED:20260303T172341Z
LAST-MODIFIED:20260303T172346Z
UID:10000076-1778175000-1778184000@golfcedarridge.com
SUMMARY:Men's League
DESCRIPTION:The last public play groups will be sent out around 3:00PM for nine holes. Everyone needs to be cleared off the course by 5:00PM and the course will remain closed for the rest of the evening.
URL:https://golfcedarridge.com/event/mens-league-13/2026-05-07/
END:VEVENT
BEGIN:VEVENT
DTSTART;TZID=America/Denver:20260514T173000
DTEND;TZID=America/Denver:20260514T200000
DTSTAMP:20260421T101329
CREATED:20260303T172341Z
LAST-MODIFIED:20260303T172346Z
UID:10000077-1778779800-1778788800@golfcedarridge.com
SUMMARY:Men's League
DESCRIPTION:The last public play groups will be sent out around 3:00PM for nine holes. Everyone needs to be cleared off the course by 5:00PM and the course will remain closed for the rest of the evening.
URL:https://golfcedarridge.com/event/mens-league-13/2026-05-14/
END:VEVENT
BEGIN:VEVENT
DTSTART;TZID=America/Denver:20260521T173000
DTEND;TZID=America/Denver:20260521T200000
DTSTAMP:20260421T101329
CREATED:20260303T172341Z
LAST-MODIFIED:20260303T172346Z
UID:10000078-1779384600-1779393600@golfcedarridge.com
SUMMARY:Men's League
DESCRIPTION:The last public play groups will be sent out around 3:00PM for nine holes. Everyone needs to be cleared off the course by 5:00PM and the course will remain closed for the rest of the evening.
URL:https://golfcedarridge.com/event/mens-league-13/2026-05-21/
END:VEVENT
BEGIN:VEVENT
DTSTART;TZID=America/Denver:20260528T173000
DTEND;TZID=America/Denver:20260528T200000
DTSTAMP:20260421T101329
CREATED:20260303T172341Z
LAST-MODIFIED:20260303T172346Z
UID:10000079-1779989400-1779998400@golfcedarridge.com
SUMMARY:Men's League
DESCRIPTION:The last public play groups will be sent out around 3:00PM for nine holes. Everyone needs to be cleared off the course by 5:00PM and the course will remain closed for the rest of the evening.
URL:https://golfcedarridge.com/event/mens-league-13/2026-05-28/
END:VEVENT
BEGIN:VEVENT
DTSTART;TZID=America/Denver:20260604T173000
DTEND;TZID=America/Denver:20260604T200000
DTSTAMP:20260421T101329
CREATED:20260303T172341Z
LAST-MODIFIED:20260303T172346Z
UID:10000080-1780594200-1780603200@golfcedarridge.com
SUMMARY:Men's League
DESCRIPTION:The last public play groups will be sent out around 3:00PM for nine holes. Everyone needs to be cleared off the course by 5:00PM and the course will remain closed for the rest of the evening.
URL:https://golfcedarridge.com/event/mens-league-13/2026-06-04/
END:VEVENT
BEGIN:VEVENT
DTSTART;TZID=America/Denver:20260611T173000
DTEND;TZID=America/Denver:20260611T200000
DTSTAMP:20260421T101329
CREATED:20260303T172341Z
LAST-MODIFIED:20260303T172346Z
UID:10000081-1781199000-1781208000@golfcedarridge.com
SUMMARY:Men's League
DESCRIPTION:The last public play groups will be sent out around 3:00PM for nine holes. Everyone needs to be cleared off the course by 5:00PM and the course will remain closed for the rest of the evening.
URL:https://golfcedarridge.com/event/mens-league-13/2026-06-11/
END:VEVENT
BEGIN:VEVENT
DTSTART;TZID=America/Denver:20260618T173000
DTEND;TZID=America/Denver:20260618T200000
DTSTAMP:20260421T101329
CREATED:20260303T172341Z
LAST-MODIFIED:20260303T172346Z
UID:10000082-1781803800-1781812800@golfcedarridge.com
SUMMARY:Men's League
DESCRIPTION:The last public play groups will be sent out around 3:00PM for nine holes. Everyone needs to be cleared off the course by 5:00PM and the course will remain closed for the rest of the evening.
URL:https://golfcedarridge.com/event/mens-league-13/2026-06-18/
END:VEVENT
BEGIN:VEVENT
DTSTART;TZID=America/Denver:20260625T173000
DTEND;TZID=America/Denver:20260625T200000
DTSTAMP:20260421T101329
CREATED:20260303T172341Z
LAST-MODIFIED:20260303T172346Z
UID:10000083-1782408600-1782417600@golfcedarridge.com
SUMMARY:Men's League
DESCRIPTION:The last public play groups will be sent out around 3:00PM for nine holes. Everyone needs to be cleared off the course by 5:00PM and the course will remain closed for the rest of the evening.
URL:https://golfcedarridge.com/event/mens-league-13/2026-06-25/
END:VEVENT
BEGIN:VEVENT
DTSTART;TZID=America/Denver:20260702T173000
DTEND;TZID=America/Denver:20260702T200000
DTSTAMP:20260421T101329
CREATED:20260303T172341Z
LAST-MODIFIED:20260303T172346Z
UID:10000084-1783013400-1783022400@golfcedarridge.com
SUMMARY:Men's League
DESCRIPTION:The last public play groups will be sent out around 3:00PM for nine holes. Everyone needs to be cleared off the course by 5:00PM and the course will remain closed for the rest of the evening.
URL:https://golfcedarridge.com/event/mens-league-13/2026-07-02/
END:VEVENT
BEGIN:VEVENT
DTSTART;TZID=America/Denver:20260709T173000
DTEND;TZID=America/Denver:20260709T200000
DTSTAMP:20260421T101329
CREATED:20260303T172341Z
LAST-MODIFIED:20260303T172346Z
UID:10000085-1783618200-1783627200@golfcedarridge.com
SUMMARY:Men's League
DESCRIPTION:The last public play groups will be sent out around 3:00PM for nine holes. Everyone needs to be cleared off the course by 5:00PM and the course will remain closed for the rest of the evening.
URL:https://golfcedarridge.com/event/mens-league-13/2026-07-09/
END:VEVENT
BEGIN:VEVENT
DTSTART;TZID=America/Denver:20260716T173000
DTEND;TZID=America/Denver:20260716T200000
DTSTAMP:20260421T101329
CREATED:20260303T172341Z
LAST-MODIFIED:20260303T172346Z
UID:10000086-1784223000-1784232000@golfcedarridge.com
SUMMARY:Men's League
DESCRIPTION:The last public play groups will be sent out around 3:00PM for nine holes. Everyone needs to be cleared off the course by 5:00PM and the course will remain closed for the rest of the evening.
URL:https://golfcedarridge.com/event/mens-league-13/2026-07-16/
END:VEVENT
BEGIN:VEVENT
DTSTART;TZID=America/Denver:20260723T173000
DTEND;TZID=America/Denver:20260723T200000
DTSTAMP:20260421T101329
CREATED:20260303T172341Z
LAST-MODIFIED:20260303T172346Z
UID:10000087-1784827800-1784836800@golfcedarridge.com
SUMMARY:Men's League
DESCRIPTION:The last public play groups will be sent out around 3:00PM for nine holes. Everyone needs to be cleared off the course by 5:00PM and the course will remain closed for the rest of the evening.
URL:https://golfcedarridge.com/event/mens-league-13/2026-07-23/
END:VEVENT
BEGIN:VEVENT
DTSTART;TZID=America/Denver:20260730T173000
DTEND;TZID=America/Denver:20260730T200000
DTSTAMP:20260421T101329
CREATED:20260303T172341Z
LAST-MODIFIED:20260303T172346Z
UID:10000088-1785432600-1785441600@golfcedarridge.com
SUMMARY:Men's League
DESCRIPTION:The last public play groups will be sent out around 3:00PM for nine holes. Everyone needs to be cleared off the course by 5:00PM and the course will remain closed for the rest of the evening.
URL:https://golfcedarridge.com/event/mens-league-13/2026-07-30/
END:VEVENT
BEGIN:VEVENT
DTSTART;TZID=America/Denver:20260806T173000
DTEND;TZID=America/Denver:20260806T200000
DTSTAMP:20260421T101329
CREATED:20260303T172341Z
LAST-MODIFIED:20260303T172346Z
UID:10000089-1786037400-1786046400@golfcedarridge.com
SUMMARY:Men's League
DESCRIPTION:The last public play groups will be sent out around 3:00PM for nine holes. Everyone needs to be cleared off the course by 5:00PM and the course will remain closed for the rest of the evening.
URL:https://golfcedarridge.com/event/mens-league-13/2026-08-06/
END:VEVENT
BEGIN:VEVENT
DTSTART;TZID=America/Denver:20260813T173000
DTEND;TZID=America/Denver:20260813T200000
DTSTAMP:20260421T101329
CREATED:20260303T172341Z
LAST-MODIFIED:20260303T172346Z
UID:10000090-1786642200-1786651200@golfcedarridge.com
SUMMARY:Men's League
DESCRIPTION:The last public play groups will be sent out around 3:00PM for nine holes. Everyone needs to be cleared off the course by 5:00PM and the course will remain closed for the rest of the evening.
URL:https://golfcedarridge.com/event/mens-league-13/2026-08-13/
END:VEVENT
BEGIN:VEVENT
DTSTART;TZID=America/Denver:20260820T173000
DTEND;TZID=America/Denver:20260820T200000
DTSTAMP:20260421T101329
CREATED:20260303T172341Z
LAST-MODIFIED:20260303T172346Z
UID:10000091-1787247000-1787256000@golfcedarridge.com
SUMMARY:Men's League
DESCRIPTION:The last public play groups will be sent out around 3:00PM for nine holes. Everyone needs to be cleared off the course by 5:00PM and the course will remain closed for the rest of the evening.
URL:https://golfcedarridge.com/event/mens-league-13/2026-08-20/
END:VEVENT
BEGIN:VEVENT
DTSTART;TZID=America/Denver:20260827T173000
DTEND;TZID=America/Denver:20260827T200000
DTSTAMP:20260421T101329
CREATED:20260303T172341Z
LAST-MODIFIED:20260303T172346Z
UID:10000092-1787851800-1787860800@golfcedarridge.com
SUMMARY:Men's League
DESCRIPTION:The last public play groups will be sent out around 3:00PM for nine holes. Everyone needs to be cleared off the course by 5:00PM and the course will remain closed for the rest of the evening.
URL:https://golfcedarridge.com/event/mens-league-13/2026-08-27/
END:VEVENT
BEGIN:VEVENT
DTSTART;TZID=America/Denver:20260903T173000
DTEND;TZID=America/Denver:20260903T200000
DTSTAMP:20260421T101329
CREATED:20260303T172341Z
LAST-MODIFIED:20260303T172346Z
UID:10000093-1788456600-1788465600@golfcedarridge.com
SUMMARY:Men's League
DESCRIPTION:The last public play groups will be sent out around 3:00PM for nine holes. Everyone needs to be cleared off the course by 5:00PM and the course will remain closed for the rest of the evening.
URL:https://golfcedarridge.com/event/mens-league-13/2026-09-03/
END:VEVENT
BEGIN:VEVENT
DTSTART;TZID=America/Denver:20260910T173000
DTEND;TZID=America/Denver:20260910T200000
DTSTAMP:20260421T101329
CREATED:20260303T172341Z
LAST-MODIFIED:20260303T172346Z
UID:10000094-1789061400-1789070400@golfcedarridge.com
SUMMARY:Men's League
DESCRIPTION:The last public play groups will be sent out around 3:00PM for nine holes. Everyone needs to be cleared off the course by 5:00PM and the course will remain closed for the rest of the evening.
URL:https://golfcedarridge.com/event/mens-league-13/2026-09-10/
END:VEVENT
BEGIN:VEVENT
DTSTART;TZID=America/Denver:20260917T173000
DTEND;TZID=America/Denver:20260917T200000
DTSTAMP:20260421T101329
CREATED:20260303T172341Z
LAST-MODIFIED:20260303T172346Z
UID:10000095-1789666200-1789675200@golfcedarridge.com
SUMMARY:Men's League
DESCRIPTION:The last public play groups will be sent out around 3:00PM for nine holes. Everyone needs to be cleared off the course by 5:00PM and the course will remain closed for the rest of the evening.
URL:https://golfcedarridge.com/event/mens-league-13/2026-09-17/
END:VEVENT
END:VCALENDAR